BEGIN:VCALENDAR
VERSION:2.0
PRODID:-//Musée du Bronze d&#039;Inverness - ECPv5.9.0//NONSGML v1.0//EN
CALSCALE:GREGORIAN
METHOD:PUBLISH
X-WR-CALNAME:Musée du Bronze d&#039;Inverness
X-ORIGINAL-URL:https://www.museedubronze.com
X-WR-CALDESC:évènements pour Musée du Bronze d&#039;Inverness
BEGIN:VTIMEZONE
TZID:America/New_York
BEGIN:DAYLIGHT
TZOFFSETFROM:-0500
TZOFFSETTO:-0400
TZNAME:EDT
DTSTART:20210314T070000
END:DAYLIGHT
BEGIN:STANDARD
TZOFFSETFROM:-0400
TZOFFSETTO:-0500
TZNAME:EST
DTSTART:20211107T060000
END:STANDARD
END:VTIMEZONE
BEGIN:VEVENT
DTSTART;TZID=America/New_York:20210626T133000
DTEND;TZID=America/New_York:20210626T153000
DTSTAMP:20260422T075614
CREATED:20210418T221958Z
LAST-MODIFIED:20210618T133552Z
UID:1139-1624714200-1624721400@www.museedubronze.com
SUMMARY:Patrick Leduc\, artiste sculpteur | artisan fondeur
DESCRIPTION:Métal\, bois\, résine\, cire\, bronze… \nMais aussi mouvement\, nuances et subtilité \nHabité par un profond respect pour la nature\, l’artiste utilise la matière pour explorer l’univers animalier. À la fois intrigué et fasciné par les animaux\, plus particulièrement par les reptiles\, les amphibiens et les insectes\, il se laisse inspirer par leur mimétisme et leur capacité d’adaptation; anatomie\, métamorphose\, techniques de chasse et de défense… Un univers singulier empreint d’une variété incroyable de couleurs et de formes. \nSes sculptures animalières vont bien au-delà de la simple représentation figurative. Chaque pièce raconte une histoire\, une réflexion\, qui invite le spectateur à aborder l’œuvre d’un point de vue différent. L’artiste accorde ainsi une importance marquée à chacun des titres\, qui permet d’exprimer son intention\, d’entrer dans son processus créatif\, dans cet univers de non-dits entre soi et la matière. \n  \nFinancé par le gouvernement du Canada dans le cadre du 175e anniversaire de constitution de la Municipalité d’Inverness. \n 
URL:https://www.museedubronze.com/evenement/patrick-leduc/
LOCATION:Musée du Bronze d’Inverness\, 1760\, chemin Dublin\, Inverness\, Québec\, G0S 1K0\, Canada
CATEGORIES:Sculpture
ATTACH;FMTTYPE=image/jpeg:https://www.museedubronze.com/wp-content/uploads/2021/04/GCO-POULET1.jpg
ORGANIZER;CN="Mus%C3%A9e%20du%20bronze%20d%27Inverness":MAILTO:museedubronze@gmail.com
END:VEVENT
END:VCALENDAR