BEGIN:VCALENDAR
VERSION:2.0
PRODID:-//Musée du Bronze d&#039;Inverness - ECPv5.9.0//NONSGML v1.0//EN
CALSCALE:GREGORIAN
METHOD:PUBLISH
X-WR-CALNAME:Musée du Bronze d&#039;Inverness
X-ORIGINAL-URL:https://www.museedubronze.com
X-WR-CALDESC:évènements pour Musée du Bronze d&#039;Inverness
BEGIN:VTIMEZONE
TZID:America/New_York
BEGIN:DAYLIGHT
TZOFFSETFROM:-0500
TZOFFSETTO:-0400
TZNAME:EDT
DTSTART:20240310T070000
END:DAYLIGHT
BEGIN:STANDARD
TZOFFSETFROM:-0400
TZOFFSETTO:-0500
TZNAME:EST
DTSTART:20241103T060000
END:STANDARD
END:VTIMEZONE
BEGIN:VEVENT
DTSTART;TZID=America/New_York:20240706T100000
DTEND;TZID=America/New_York:20240706T160000
DTSTAMP:20260419T143215
CREATED:20240612T145240Z
LAST-MODIFIED:20240619T173909Z
UID:1610-1720260000-1720281600@www.museedubronze.com
SUMMARY:Résidence | Marie-Aube Laniel
DESCRIPTION:Nous sommes heureux de vous inviter à venir découvrir le travail fascinant de Marie-Aube Laniel\, artiste multidisciplinaire. Cette artiste talentueuse s’engage dans une création exceptionnelle avec des matériaux naturels\, guidée par les aléas des saisons et la disponibilité des ressources. \nL’été est une période propice pour la collecte de fibres végétales abondantes. Ces fibres subissent un processus cyclique : récolte\, séchage\, réhydratation et enfin\, transformation artistique. L’artiste effectuera une résidence de création à partir de textiles végétaux\, tels que les aiguilles de pin\, les pissenlits\, les feuilles de quenouilles\, l’écorce de saule et le lin. \nPendant cette résidence\, l’artiste expérimente le filage des fibres\, le tissage de ces brins\, la transformation des textiles en œuvres d’art et la broderie sur feuilles d’arbre. L’utilisation d’outils traditionnels du début du siècle ajoute une dimension historique à cette expérience créative unique. \nVous aurez également l’occasion d’en apprendre davantage sur les différentes plantes utilisées\, les savoir-faire traditionnels des femmes et les outils anciens. Les thèmes de la valeur du temps investi dans la création\, de l’empreinte écologique laissée par l’homme et de la surconsommation seront abordés en douceur. \nDates :  \n6 juin \n6\, 28 juillet \n3\, 25 août \n7\, 29 septembre \n  \nCrédit photo: Karolle Grondin
URL:https://www.museedubronze.com/evenement/residence-marie-aube-laniel/2024-07-06/
LOCATION:Musée du Bronze d’Inverness\, 1760\, chemin Dublin\, Inverness\, Québec\, G0S 1K0\, Canada
CATEGORIES:Activités
ATTACH;FMTTYPE=image/jpeg:https://www.museedubronze.com/wp-content/uploads/2024/06/Karolle-Grondin-e1718210259557.jpg
ORGANIZER;CN="Mus%C3%A9e%20du%20bronze%20d%27Inverness":MAILTO:museedubronze@gmail.com
END:VEVENT
END:VCALENDAR